BEGIN:VCALENDAR
VERSION:2.0
PRODID:-//Tukios.com/
BEGIN:VEVENT
UID:58df4a1b-ac8e-4cd0-bed4-49d3c4855da2@www.parksbrothers.net
DTSTAMP:20260420T022456Z
DTSTART:20260422
SUMMARY:Burial
DESCRIPTION:
URL:https://www.parksbrothers.net/obituaries/ethel-hall-hopkins-townsley
LOCATION: E 930 Rd  Chandler OK 74834
GEO:35.7017314;-96.8808582
END:VEVENT
END:VCALENDAR