BEGIN:VCALENDAR
VERSION:2.0
PRODID:-//Tukios.com/
BEGIN:VEVENT
UID:92fd1955-f27f-430b-b718-323efeb1752f@www.parksbrothers.net
DTSTAMP:20260420T022807Z
DTSTART:20260422T160000Z
DTEND:20260422T170000Z
SUMMARY:Funeral Service
DESCRIPTION:
URL:https://www.parksbrothers.net/obituaries/ethel-hall-hopkins-townsley
LOCATION: 2121 East 1st Street  Chandler OK 74834
GEO:35.7091519;-96.8509258
END:VEVENT
END:VCALENDAR