BEGIN:VCALENDAR
VERSION:2.0
PRODID:-//Tukios.com/
BEGIN:VEVENT
UID:647facf9-b3eb-493c-9f2d-a14ee3b7bb90@www.parksbrothers.net
DTSTAMP:20260420T023120Z
DTSTART:20260421T220000Z
DTEND:20260422T000000Z
SUMMARY:Visitation with Family
DESCRIPTION:
URL:https://www.parksbrothers.net/obituaries/ethel-hall-hopkins-townsley
LOCATION: 617 Manvel Ave  Chandler OK 74834
GEO:35.7040889;-96.8811353
END:VEVENT
END:VCALENDAR