BEGIN:VCALENDAR
VERSION:2.0
PRODID:-//Tukios.com/
BEGIN:VEVENT
UID:ca5cabe3-61be-4f2a-9b6c-ab3bf4f77650@www.parksbrothers.net
DTSTAMP:20260420T023421Z
DTSTART:20260421T130000Z
DTEND:20260421T220000Z
SUMMARY:Viewing
DESCRIPTION:
URL:https://www.parksbrothers.net/obituaries/ethel-hall-hopkins-townsley
LOCATION: 617 Manvel Ave  Chandler OK 74834
GEO:35.7040889;-96.8811353
END:VEVENT
END:VCALENDAR