BEGIN:VCALENDAR
VERSION:2.0
PRODID:-//Tukios.com/
BEGIN:VEVENT
UID:fd7f1f46-9169-4fcf-ac23-71b08d90d004@www.parksbrothers.net
DTSTAMP:20260424T020407Z
DTSTART:20260502T160000Z
DTEND:20260502T170000Z
SUMMARY:Memorial Service
DESCRIPTION:
URL:https://www.parksbrothers.net/obituaries/buryl-williams-jr
LOCATION: 617 Manvel Ave  Chandler OK 74834
GEO:35.7040889;-96.8811353
END:VEVENT
END:VCALENDAR